BEGIN:VCALENDAR
VERSION:2.0
PRODID:-//Grace Church Markham - ECPv6.2.2//NONSGML v1.0//EN
CALSCALE:GREGORIAN
METHOD:PUBLISH
X-ORIGINAL-URL:https://graceanglican.ca
X-WR-CALDESC:Events for Grace Church Markham
REFRESH-INTERVAL;VALUE=DURATION:PT1H
X-Robots-Tag:noindex
X-PUBLISHED-TTL:PT1H
BEGIN:VTIMEZONE
TZID:America/Toronto
BEGIN:DAYLIGHT
TZOFFSETFROM:-0500
TZOFFSETTO:-0400
TZNAME:EDT
DTSTART:20310309T070000
END:DAYLIGHT
BEGIN:STANDARD
TZOFFSETFROM:-0400
TZOFFSETTO:-0500
TZNAME:EST
DTSTART:20311102T060000
END:STANDARD
END:VTIMEZONE
BEGIN:VEVENT
DTSTART;TZID=America/Toronto:20310102T130000
DTEND;TZID=America/Toronto:20310102T150000
DTSTAMP:20260420T152503
CREATED:20260322T153359Z
LAST-MODIFIED:20260412T153512Z
UID:10010471-1925125200-1925132400@graceanglican.ca
SUMMARY:Mahjong Evening
DESCRIPTION:Come for an evening of Mahjong\, hosted by our church administrator Maggie!
URL:https://graceanglican.ca/event/mahjong-evening-april-2-2-2/2031-01-02/
LOCATION:Grace Church\, 19 Parkway Avenue\, Markham\, Ontario\, L3P 2E9\, Canada
END:VEVENT
BEGIN:VEVENT
DTSTART;TZID=America/Toronto:20310109T130000
DTEND;TZID=America/Toronto:20310109T150000
DTSTAMP:20260420T152503
CREATED:20260322T153359Z
LAST-MODIFIED:20260412T153512Z
UID:10010472-1925730000-1925737200@graceanglican.ca
SUMMARY:Mahjong Evening
DESCRIPTION:Come for an evening of Mahjong\, hosted by our church administrator Maggie!
URL:https://graceanglican.ca/event/mahjong-evening-april-2-2-2/2031-01-09/
LOCATION:Grace Church\, 19 Parkway Avenue\, Markham\, Ontario\, L3P 2E9\, Canada
END:VEVENT
BEGIN:VEVENT
DTSTART;TZID=America/Toronto:20310116T130000
DTEND;TZID=America/Toronto:20310116T150000
DTSTAMP:20260420T152503
CREATED:20260322T153359Z
LAST-MODIFIED:20260412T153512Z
UID:10010473-1926334800-1926342000@graceanglican.ca
SUMMARY:Mahjong Evening
DESCRIPTION:Come for an evening of Mahjong\, hosted by our church administrator Maggie!
URL:https://graceanglican.ca/event/mahjong-evening-april-2-2-2/2031-01-16/
LOCATION:Grace Church\, 19 Parkway Avenue\, Markham\, Ontario\, L3P 2E9\, Canada
END:VEVENT
BEGIN:VEVENT
DTSTART;TZID=America/Toronto:20310123T130000
DTEND;TZID=America/Toronto:20310123T150000
DTSTAMP:20260420T152503
CREATED:20260322T153359Z
LAST-MODIFIED:20260412T153512Z
UID:10010474-1926939600-1926946800@graceanglican.ca
SUMMARY:Mahjong Evening
DESCRIPTION:Come for an evening of Mahjong\, hosted by our church administrator Maggie!
URL:https://graceanglican.ca/event/mahjong-evening-april-2-2-2/2031-01-23/
LOCATION:Grace Church\, 19 Parkway Avenue\, Markham\, Ontario\, L3P 2E9\, Canada
END:VEVENT
BEGIN:VEVENT
DTSTART;TZID=America/Toronto:20310130T130000
DTEND;TZID=America/Toronto:20310130T150000
DTSTAMP:20260420T152503
CREATED:20260322T153359Z
LAST-MODIFIED:20260412T153512Z
UID:10010475-1927544400-1927551600@graceanglican.ca
SUMMARY:Mahjong Evening
DESCRIPTION:Come for an evening of Mahjong\, hosted by our church administrator Maggie!
URL:https://graceanglican.ca/event/mahjong-evening-april-2-2-2/2031-01-30/
LOCATION:Grace Church\, 19 Parkway Avenue\, Markham\, Ontario\, L3P 2E9\, Canada
END:VEVENT
END:VCALENDAR