BEGIN:VCALENDAR
VERSION:2.0
PRODID:-//Grace Church Markham - ECPv6.2.2//NONSGML v1.0//EN
CALSCALE:GREGORIAN
METHOD:PUBLISH
X-WR-CALNAME:Grace Church Markham
X-ORIGINAL-URL:https://graceanglican.ca
X-WR-CALDESC:Events for Grace Church Markham
REFRESH-INTERVAL;VALUE=DURATION:PT1H
X-Robots-Tag:noindex
X-PUBLISHED-TTL:PT1H
BEGIN:VTIMEZONE
TZID:America/Toronto
BEGIN:DAYLIGHT
TZOFFSETFROM:-0500
TZOFFSETTO:-0400
TZNAME:EDT
DTSTART:20250309T070000
END:DAYLIGHT
BEGIN:STANDARD
TZOFFSETFROM:-0400
TZOFFSETTO:-0500
TZNAME:EST
DTSTART:20251102T060000
END:STANDARD
BEGIN:DAYLIGHT
TZOFFSETFROM:-0500
TZOFFSETTO:-0400
TZNAME:EDT
DTSTART:20260308T070000
END:DAYLIGHT
BEGIN:STANDARD
TZOFFSETFROM:-0400
TZOFFSETTO:-0500
TZNAME:EST
DTSTART:20261101T060000
END:STANDARD
END:VTIMEZONE
BEGIN:VEVENT
DTSTART;TZID=America/Toronto:20260126T090000
DTEND;TZID=America/Toronto:20260126T110000
DTSTAMP:20260420T163308
CREATED:20230806T134823Z
LAST-MODIFIED:20250921T143745Z
UID:10009391-1769418000-1769425200@graceanglican.ca
SUMMARY:Walking Group - Every Monday at 9AM outside the T&T Bakery
DESCRIPTION:The walking group meets every Monday at 8:30 outside the T&T Bakery
URL:https://graceanglican.ca/event/walking-group-every-monday-at-830am-outside-the-tt-bakery/2026-01-26/
LOCATION:T&T Bakery\, 35 Main Street Markham N\, Markham\, ON\, L3P 8C5\, Canada
CATEGORIES:Walking Group
END:VEVENT
BEGIN:VEVENT
DTSTART;TZID=America/Toronto:20260119T090000
DTEND;TZID=America/Toronto:20260119T110000
DTSTAMP:20260420T163308
CREATED:20230806T134823Z
LAST-MODIFIED:20250921T143745Z
UID:10009390-1768813200-1768820400@graceanglican.ca
SUMMARY:Walking Group - Every Monday at 9AM outside the T&T Bakery
DESCRIPTION:The walking group meets every Monday at 8:30 outside the T&T Bakery
URL:https://graceanglican.ca/event/walking-group-every-monday-at-830am-outside-the-tt-bakery/2026-01-19/
LOCATION:T&T Bakery\, 35 Main Street Markham N\, Markham\, ON\, L3P 8C5\, Canada
CATEGORIES:Walking Group
END:VEVENT
BEGIN:VEVENT
DTSTART;TZID=America/Toronto:20260112T090000
DTEND;TZID=America/Toronto:20260112T110000
DTSTAMP:20260420T163308
CREATED:20230806T134823Z
LAST-MODIFIED:20250921T143745Z
UID:10009389-1768208400-1768215600@graceanglican.ca
SUMMARY:Walking Group - Every Monday at 9AM outside the T&T Bakery
DESCRIPTION:The walking group meets every Monday at 8:30 outside the T&T Bakery
URL:https://graceanglican.ca/event/walking-group-every-monday-at-830am-outside-the-tt-bakery/2026-01-12/
LOCATION:T&T Bakery\, 35 Main Street Markham N\, Markham\, ON\, L3P 8C5\, Canada
CATEGORIES:Walking Group
END:VEVENT
BEGIN:VEVENT
DTSTART;TZID=America/Toronto:20260105T090000
DTEND;TZID=America/Toronto:20260105T110000
DTSTAMP:20260420T163308
CREATED:20230806T134823Z
LAST-MODIFIED:20250921T143745Z
UID:10009388-1767603600-1767610800@graceanglican.ca
SUMMARY:Walking Group - Every Monday at 9AM outside the T&T Bakery
DESCRIPTION:The walking group meets every Monday at 8:30 outside the T&T Bakery
URL:https://graceanglican.ca/event/walking-group-every-monday-at-830am-outside-the-tt-bakery/2026-01-05/
LOCATION:T&T Bakery\, 35 Main Street Markham N\, Markham\, ON\, L3P 8C5\, Canada
CATEGORIES:Walking Group
END:VEVENT
BEGIN:VEVENT
DTSTART;TZID=America/Toronto:20251229T090000
DTEND;TZID=America/Toronto:20251229T110000
DTSTAMP:20260420T163308
CREATED:20230806T134823Z
LAST-MODIFIED:20250921T143745Z
UID:10009387-1766998800-1767006000@graceanglican.ca
SUMMARY:Walking Group - Every Monday at 9AM outside the T&T Bakery
DESCRIPTION:The walking group meets every Monday at 8:30 outside the T&T Bakery
URL:https://graceanglican.ca/event/walking-group-every-monday-at-830am-outside-the-tt-bakery/2025-12-29/
LOCATION:T&T Bakery\, 35 Main Street Markham N\, Markham\, ON\, L3P 8C5\, Canada
CATEGORIES:Walking Group
END:VEVENT
BEGIN:VEVENT
DTSTART;TZID=America/Toronto:20251222T090000
DTEND;TZID=America/Toronto:20251222T110000
DTSTAMP:20260420T163308
CREATED:20230806T134823Z
LAST-MODIFIED:20250921T143745Z
UID:10009386-1766394000-1766401200@graceanglican.ca
SUMMARY:Walking Group - Every Monday at 9AM outside the T&T Bakery
DESCRIPTION:The walking group meets every Monday at 8:30 outside the T&T Bakery
URL:https://graceanglican.ca/event/walking-group-every-monday-at-830am-outside-the-tt-bakery/2025-12-22/
LOCATION:T&T Bakery\, 35 Main Street Markham N\, Markham\, ON\, L3P 8C5\, Canada
CATEGORIES:Walking Group
END:VEVENT
BEGIN:VEVENT
DTSTART;TZID=America/Toronto:20251215T090000
DTEND;TZID=America/Toronto:20251215T110000
DTSTAMP:20260420T163308
CREATED:20230806T134823Z
LAST-MODIFIED:20250921T143745Z
UID:10009385-1765789200-1765796400@graceanglican.ca
SUMMARY:Walking Group - Every Monday at 9AM outside the T&T Bakery
DESCRIPTION:The walking group meets every Monday at 8:30 outside the T&T Bakery
URL:https://graceanglican.ca/event/walking-group-every-monday-at-830am-outside-the-tt-bakery/2025-12-15/
LOCATION:T&T Bakery\, 35 Main Street Markham N\, Markham\, ON\, L3P 8C5\, Canada
CATEGORIES:Walking Group
END:VEVENT
BEGIN:VEVENT
DTSTART;TZID=America/Toronto:20251208T090000
DTEND;TZID=America/Toronto:20251208T110000
DTSTAMP:20260420T163308
CREATED:20230806T134823Z
LAST-MODIFIED:20250921T143745Z
UID:10009384-1765184400-1765191600@graceanglican.ca
SUMMARY:Walking Group - Every Monday at 9AM outside the T&T Bakery
DESCRIPTION:The walking group meets every Monday at 8:30 outside the T&T Bakery
URL:https://graceanglican.ca/event/walking-group-every-monday-at-830am-outside-the-tt-bakery/2025-12-08/
LOCATION:T&T Bakery\, 35 Main Street Markham N\, Markham\, ON\, L3P 8C5\, Canada
CATEGORIES:Walking Group
END:VEVENT
BEGIN:VEVENT
DTSTART;TZID=America/Toronto:20251201T090000
DTEND;TZID=America/Toronto:20251201T110000
DTSTAMP:20260420T163308
CREATED:20230806T134823Z
LAST-MODIFIED:20250921T143745Z
UID:10009383-1764579600-1764586800@graceanglican.ca
SUMMARY:Walking Group - Every Monday at 9AM outside the T&T Bakery
DESCRIPTION:The walking group meets every Monday at 8:30 outside the T&T Bakery
URL:https://graceanglican.ca/event/walking-group-every-monday-at-830am-outside-the-tt-bakery/2025-12-01/
LOCATION:T&T Bakery\, 35 Main Street Markham N\, Markham\, ON\, L3P 8C5\, Canada
CATEGORIES:Walking Group
END:VEVENT
BEGIN:VEVENT
DTSTART;TZID=America/Toronto:20251124T090000
DTEND;TZID=America/Toronto:20251124T110000
DTSTAMP:20260420T163308
CREATED:20230806T134823Z
LAST-MODIFIED:20250921T143745Z
UID:10009382-1763974800-1763982000@graceanglican.ca
SUMMARY:Walking Group - Every Monday at 9AM outside the T&T Bakery
DESCRIPTION:The walking group meets every Monday at 8:30 outside the T&T Bakery
URL:https://graceanglican.ca/event/walking-group-every-monday-at-830am-outside-the-tt-bakery/2025-11-24/
LOCATION:T&T Bakery\, 35 Main Street Markham N\, Markham\, ON\, L3P 8C5\, Canada
CATEGORIES:Walking Group
END:VEVENT
BEGIN:VEVENT
DTSTART;TZID=America/Toronto:20251117T090000
DTEND;TZID=America/Toronto:20251117T110000
DTSTAMP:20260420T163309
CREATED:20230806T134823Z
LAST-MODIFIED:20250921T143745Z
UID:10009381-1763370000-1763377200@graceanglican.ca
SUMMARY:Walking Group - Every Monday at 9AM outside the T&T Bakery
DESCRIPTION:The walking group meets every Monday at 8:30 outside the T&T Bakery
URL:https://graceanglican.ca/event/walking-group-every-monday-at-830am-outside-the-tt-bakery/2025-11-17/
LOCATION:T&T Bakery\, 35 Main Street Markham N\, Markham\, ON\, L3P 8C5\, Canada
CATEGORIES:Walking Group
END:VEVENT
BEGIN:VEVENT
DTSTART;TZID=America/Toronto:20251110T090000
DTEND;TZID=America/Toronto:20251110T110000
DTSTAMP:20260420T163309
CREATED:20230806T134823Z
LAST-MODIFIED:20250921T143745Z
UID:10009380-1762765200-1762772400@graceanglican.ca
SUMMARY:Walking Group - Every Monday at 9AM outside the T&T Bakery
DESCRIPTION:The walking group meets every Monday at 8:30 outside the T&T Bakery
URL:https://graceanglican.ca/event/walking-group-every-monday-at-830am-outside-the-tt-bakery/2025-11-10/
LOCATION:T&T Bakery\, 35 Main Street Markham N\, Markham\, ON\, L3P 8C5\, Canada
CATEGORIES:Walking Group
END:VEVENT
BEGIN:VEVENT
DTSTART;TZID=America/Toronto:20251103T090000
DTEND;TZID=America/Toronto:20251103T110000
DTSTAMP:20260420T163309
CREATED:20230806T134823Z
LAST-MODIFIED:20250921T143745Z
UID:10009379-1762160400-1762167600@graceanglican.ca
SUMMARY:Walking Group - Every Monday at 9AM outside the T&T Bakery
DESCRIPTION:The walking group meets every Monday at 8:30 outside the T&T Bakery
URL:https://graceanglican.ca/event/walking-group-every-monday-at-830am-outside-the-tt-bakery/2025-11-03/
LOCATION:T&T Bakery\, 35 Main Street Markham N\, Markham\, ON\, L3P 8C5\, Canada
CATEGORIES:Walking Group
END:VEVENT
BEGIN:VEVENT
DTSTART;TZID=America/Toronto:20251027T090000
DTEND;TZID=America/Toronto:20251027T110000
DTSTAMP:20260420T163309
CREATED:20230806T134823Z
LAST-MODIFIED:20250921T143745Z
UID:10009378-1761555600-1761562800@graceanglican.ca
SUMMARY:Walking Group - Every Monday at 9AM outside the T&T Bakery
DESCRIPTION:The walking group meets every Monday at 8:30 outside the T&T Bakery
URL:https://graceanglican.ca/event/walking-group-every-monday-at-830am-outside-the-tt-bakery/2025-10-27/
LOCATION:T&T Bakery\, 35 Main Street Markham N\, Markham\, ON\, L3P 8C5\, Canada
CATEGORIES:Walking Group
END:VEVENT
BEGIN:VEVENT
DTSTART;TZID=America/Toronto:20251020T090000
DTEND;TZID=America/Toronto:20251020T110000
DTSTAMP:20260420T163309
CREATED:20230806T134823Z
LAST-MODIFIED:20250921T143745Z
UID:10009377-1760950800-1760958000@graceanglican.ca
SUMMARY:Walking Group - Every Monday at 9AM outside the T&T Bakery
DESCRIPTION:The walking group meets every Monday at 8:30 outside the T&T Bakery
URL:https://graceanglican.ca/event/walking-group-every-monday-at-830am-outside-the-tt-bakery/2025-10-20/
LOCATION:T&T Bakery\, 35 Main Street Markham N\, Markham\, ON\, L3P 8C5\, Canada
CATEGORIES:Walking Group
END:VEVENT
BEGIN:VEVENT
DTSTART;TZID=America/Toronto:20251013T090000
DTEND;TZID=America/Toronto:20251013T110000
DTSTAMP:20260420T163309
CREATED:20230806T134823Z
LAST-MODIFIED:20250921T143745Z
UID:10009376-1760346000-1760353200@graceanglican.ca
SUMMARY:Walking Group - Every Monday at 9AM outside the T&T Bakery
DESCRIPTION:The walking group meets every Monday at 8:30 outside the T&T Bakery
URL:https://graceanglican.ca/event/walking-group-every-monday-at-830am-outside-the-tt-bakery/2025-10-13/
LOCATION:T&T Bakery\, 35 Main Street Markham N\, Markham\, ON\, L3P 8C5\, Canada
CATEGORIES:Walking Group
END:VEVENT
BEGIN:VEVENT
DTSTART;TZID=America/Toronto:20251006T090000
DTEND;TZID=America/Toronto:20251006T110000
DTSTAMP:20260420T163309
CREATED:20230806T134823Z
LAST-MODIFIED:20250921T143745Z
UID:10009375-1759741200-1759748400@graceanglican.ca
SUMMARY:Walking Group - Every Monday at 9AM outside the T&T Bakery
DESCRIPTION:The walking group meets every Monday at 8:30 outside the T&T Bakery
URL:https://graceanglican.ca/event/walking-group-every-monday-at-830am-outside-the-tt-bakery/2025-10-06/
LOCATION:T&T Bakery\, 35 Main Street Markham N\, Markham\, ON\, L3P 8C5\, Canada
CATEGORIES:Walking Group
END:VEVENT
BEGIN:VEVENT
DTSTART;TZID=America/Toronto:20250929T090000
DTEND;TZID=America/Toronto:20250929T110000
DTSTAMP:20260420T163309
CREATED:20230806T134823Z
LAST-MODIFIED:20250921T143745Z
UID:10009374-1759136400-1759143600@graceanglican.ca
SUMMARY:Walking Group - Every Monday at 9AM outside the T&T Bakery
DESCRIPTION:The walking group meets every Monday at 8:30 outside the T&T Bakery
URL:https://graceanglican.ca/event/walking-group-every-monday-at-830am-outside-the-tt-bakery/2025-09-29/
LOCATION:T&T Bakery\, 35 Main Street Markham N\, Markham\, ON\, L3P 8C5\, Canada
CATEGORIES:Walking Group
END:VEVENT
BEGIN:VEVENT
DTSTART;TZID=America/Toronto:20250922T090000
DTEND;TZID=America/Toronto:20250922T110000
DTSTAMP:20260420T163309
CREATED:20230806T134823Z
LAST-MODIFIED:20250921T143745Z
UID:10009373-1758531600-1758538800@graceanglican.ca
SUMMARY:Walking Group - Every Monday at 9AM outside the T&T Bakery
DESCRIPTION:The walking group meets every Monday at 8:30 outside the T&T Bakery
URL:https://graceanglican.ca/event/walking-group-every-monday-at-830am-outside-the-tt-bakery/2025-09-22/
LOCATION:T&T Bakery\, 35 Main Street Markham N\, Markham\, ON\, L3P 8C5\, Canada
CATEGORIES:Walking Group
END:VEVENT
BEGIN:VEVENT
DTSTART;TZID=America/Toronto:20250915T090000
DTEND;TZID=America/Toronto:20250915T110000
DTSTAMP:20260420T163309
CREATED:20230806T134823Z
LAST-MODIFIED:20250921T143745Z
UID:10009372-1757926800-1757934000@graceanglican.ca
SUMMARY:Walking Group - Every Monday at 9AM outside the T&T Bakery
DESCRIPTION:The walking group meets every Monday at 8:30 outside the T&T Bakery
URL:https://graceanglican.ca/event/walking-group-every-monday-at-830am-outside-the-tt-bakery/2025-09-15/
LOCATION:T&T Bakery\, 35 Main Street Markham N\, Markham\, ON\, L3P 8C5\, Canada
CATEGORIES:Walking Group
END:VEVENT
BEGIN:VEVENT
DTSTART;TZID=America/Toronto:20250908T090000
DTEND;TZID=America/Toronto:20250908T110000
DTSTAMP:20260420T163309
CREATED:20230806T134823Z
LAST-MODIFIED:20250921T143745Z
UID:10009371-1757322000-1757329200@graceanglican.ca
SUMMARY:Walking Group - Every Monday at 9AM outside the T&T Bakery
DESCRIPTION:The walking group meets every Monday at 8:30 outside the T&T Bakery
URL:https://graceanglican.ca/event/walking-group-every-monday-at-830am-outside-the-tt-bakery/2025-09-08/
LOCATION:T&T Bakery\, 35 Main Street Markham N\, Markham\, ON\, L3P 8C5\, Canada
CATEGORIES:Walking Group
END:VEVENT
BEGIN:VEVENT
DTSTART;TZID=America/Toronto:20250901T090000
DTEND;TZID=America/Toronto:20250901T110000
DTSTAMP:20260420T163309
CREATED:20230806T134823Z
LAST-MODIFIED:20250921T143745Z
UID:10009370-1756717200-1756724400@graceanglican.ca
SUMMARY:Walking Group - Every Monday at 9AM outside the T&T Bakery
DESCRIPTION:The walking group meets every Monday at 8:30 outside the T&T Bakery
URL:https://graceanglican.ca/event/walking-group-every-monday-at-830am-outside-the-tt-bakery/2025-09-01/
LOCATION:T&T Bakery\, 35 Main Street Markham N\, Markham\, ON\, L3P 8C5\, Canada
CATEGORIES:Walking Group
END:VEVENT
BEGIN:VEVENT
DTSTART;TZID=America/Toronto:20250825T090000
DTEND;TZID=America/Toronto:20250825T110000
DTSTAMP:20260420T163309
CREATED:20230806T134823Z
LAST-MODIFIED:20250921T143745Z
UID:10009369-1756112400-1756119600@graceanglican.ca
SUMMARY:Walking Group - Every Monday at 9AM outside the T&T Bakery
DESCRIPTION:The walking group meets every Monday at 8:30 outside the T&T Bakery
URL:https://graceanglican.ca/event/walking-group-every-monday-at-830am-outside-the-tt-bakery/2025-08-25/
LOCATION:T&T Bakery\, 35 Main Street Markham N\, Markham\, ON\, L3P 8C5\, Canada
CATEGORIES:Walking Group
END:VEVENT
BEGIN:VEVENT
DTSTART;TZID=America/Toronto:20250818T090000
DTEND;TZID=America/Toronto:20250818T110000
DTSTAMP:20260420T163309
CREATED:20230806T134823Z
LAST-MODIFIED:20250921T143745Z
UID:10009368-1755507600-1755514800@graceanglican.ca
SUMMARY:Walking Group - Every Monday at 9AM outside the T&T Bakery
DESCRIPTION:The walking group meets every Monday at 8:30 outside the T&T Bakery
URL:https://graceanglican.ca/event/walking-group-every-monday-at-830am-outside-the-tt-bakery/2025-08-18/
LOCATION:T&T Bakery\, 35 Main Street Markham N\, Markham\, ON\, L3P 8C5\, Canada
CATEGORIES:Walking Group
END:VEVENT
BEGIN:VEVENT
DTSTART;TZID=America/Toronto:20250811T090000
DTEND;TZID=America/Toronto:20250811T110000
DTSTAMP:20260420T163309
CREATED:20230806T134823Z
LAST-MODIFIED:20250921T143745Z
UID:10009367-1754902800-1754910000@graceanglican.ca
SUMMARY:Walking Group - Every Monday at 9AM outside the T&T Bakery
DESCRIPTION:The walking group meets every Monday at 8:30 outside the T&T Bakery
URL:https://graceanglican.ca/event/walking-group-every-monday-at-830am-outside-the-tt-bakery/2025-08-11/
LOCATION:T&T Bakery\, 35 Main Street Markham N\, Markham\, ON\, L3P 8C5\, Canada
CATEGORIES:Walking Group
END:VEVENT
BEGIN:VEVENT
DTSTART;TZID=America/Toronto:20250804T090000
DTEND;TZID=America/Toronto:20250804T110000
DTSTAMP:20260420T163309
CREATED:20230806T134823Z
LAST-MODIFIED:20250921T143745Z
UID:10009366-1754298000-1754305200@graceanglican.ca
SUMMARY:Walking Group - Every Monday at 9AM outside the T&T Bakery
DESCRIPTION:The walking group meets every Monday at 8:30 outside the T&T Bakery
URL:https://graceanglican.ca/event/walking-group-every-monday-at-830am-outside-the-tt-bakery/2025-08-04/
LOCATION:T&T Bakery\, 35 Main Street Markham N\, Markham\, ON\, L3P 8C5\, Canada
CATEGORIES:Walking Group
END:VEVENT
BEGIN:VEVENT
DTSTART;TZID=America/Toronto:20250728T090000
DTEND;TZID=America/Toronto:20250728T110000
DTSTAMP:20260420T163309
CREATED:20230806T134823Z
LAST-MODIFIED:20250921T143745Z
UID:10009365-1753693200-1753700400@graceanglican.ca
SUMMARY:Walking Group - Every Monday at 9AM outside the T&T Bakery
DESCRIPTION:The walking group meets every Monday at 8:30 outside the T&T Bakery
URL:https://graceanglican.ca/event/walking-group-every-monday-at-830am-outside-the-tt-bakery/2025-07-28/
LOCATION:T&T Bakery\, 35 Main Street Markham N\, Markham\, ON\, L3P 8C5\, Canada
CATEGORIES:Walking Group
END:VEVENT
BEGIN:VEVENT
DTSTART;TZID=America/Toronto:20250721T090000
DTEND;TZID=America/Toronto:20250721T110000
DTSTAMP:20260420T163309
CREATED:20230806T134823Z
LAST-MODIFIED:20250921T143745Z
UID:10009364-1753088400-1753095600@graceanglican.ca
SUMMARY:Walking Group - Every Monday at 9AM outside the T&T Bakery
DESCRIPTION:The walking group meets every Monday at 8:30 outside the T&T Bakery
URL:https://graceanglican.ca/event/walking-group-every-monday-at-830am-outside-the-tt-bakery/2025-07-21/
LOCATION:T&T Bakery\, 35 Main Street Markham N\, Markham\, ON\, L3P 8C5\, Canada
CATEGORIES:Walking Group
END:VEVENT
BEGIN:VEVENT
DTSTART;TZID=America/Toronto:20250714T090000
DTEND;TZID=America/Toronto:20250714T110000
DTSTAMP:20260420T163309
CREATED:20230806T134823Z
LAST-MODIFIED:20250921T143745Z
UID:10009363-1752483600-1752490800@graceanglican.ca
SUMMARY:Walking Group - Every Monday at 9AM outside the T&T Bakery
DESCRIPTION:The walking group meets every Monday at 8:30 outside the T&T Bakery
URL:https://graceanglican.ca/event/walking-group-every-monday-at-830am-outside-the-tt-bakery/2025-07-14/
LOCATION:T&T Bakery\, 35 Main Street Markham N\, Markham\, ON\, L3P 8C5\, Canada
CATEGORIES:Walking Group
END:VEVENT
BEGIN:VEVENT
DTSTART;TZID=America/Toronto:20250707T090000
DTEND;TZID=America/Toronto:20250707T110000
DTSTAMP:20260420T163309
CREATED:20230806T134823Z
LAST-MODIFIED:20250921T143745Z
UID:10009362-1751878800-1751886000@graceanglican.ca
SUMMARY:Walking Group - Every Monday at 9AM outside the T&T Bakery
DESCRIPTION:The walking group meets every Monday at 8:30 outside the T&T Bakery
URL:https://graceanglican.ca/event/walking-group-every-monday-at-830am-outside-the-tt-bakery/2025-07-07/
LOCATION:T&T Bakery\, 35 Main Street Markham N\, Markham\, ON\, L3P 8C5\, Canada
CATEGORIES:Walking Group
END:VEVENT
END:VCALENDAR