BEGIN:VCALENDAR
VERSION:2.0
PRODID:-//Grace Church Markham - ECPv6.2.2//NONSGML v1.0//EN
CALSCALE:GREGORIAN
METHOD:PUBLISH
X-ORIGINAL-URL:https://graceanglican.ca
X-WR-CALDESC:Events for Grace Church Markham
REFRESH-INTERVAL;VALUE=DURATION:PT1H
X-Robots-Tag:noindex
X-PUBLISHED-TTL:PT1H
BEGIN:VTIMEZONE
TZID:America/Toronto
BEGIN:DAYLIGHT
TZOFFSETFROM:-0500
TZOFFSETTO:-0400
TZNAME:EDT
DTSTART:20260308T070000
END:DAYLIGHT
BEGIN:STANDARD
TZOFFSETFROM:-0400
TZOFFSETTO:-0500
TZNAME:EST
DTSTART:20261101T060000
END:STANDARD
END:VTIMEZONE
BEGIN:VEVENT
DTSTART;TZID=America/Toronto:20260302T090000
DTEND;TZID=America/Toronto:20260302T110000
DTSTAMP:20260420T132842
CREATED:20230806T134823Z
LAST-MODIFIED:20250921T143745Z
UID:10009396-1772442000-1772449200@graceanglican.ca
SUMMARY:Walking Group - Every Monday at 9AM outside the T&T Bakery
DESCRIPTION:The walking group meets every Monday at 8:30 outside the T&T Bakery
URL:https://graceanglican.ca/event/walking-group-every-monday-at-830am-outside-the-tt-bakery/2026-03-02/
LOCATION:T&T Bakery\, 35 Main Street Markham N\, Markham\, ON\, L3P 8C5\, Canada
CATEGORIES:Walking Group
END:VEVENT
BEGIN:VEVENT
DTSTART;TZID=America/Toronto:20260309T090000
DTEND;TZID=America/Toronto:20260309T110000
DTSTAMP:20260420T132842
CREATED:20230806T134823Z
LAST-MODIFIED:20250921T143745Z
UID:10009397-1773046800-1773054000@graceanglican.ca
SUMMARY:Walking Group - Every Monday at 9AM outside the T&T Bakery
DESCRIPTION:The walking group meets every Monday at 8:30 outside the T&T Bakery
URL:https://graceanglican.ca/event/walking-group-every-monday-at-830am-outside-the-tt-bakery/2026-03-09/
LOCATION:T&T Bakery\, 35 Main Street Markham N\, Markham\, ON\, L3P 8C5\, Canada
CATEGORIES:Walking Group
END:VEVENT
BEGIN:VEVENT
DTSTART;TZID=America/Toronto:20260316T090000
DTEND;TZID=America/Toronto:20260316T110000
DTSTAMP:20260420T132842
CREATED:20230806T134823Z
LAST-MODIFIED:20250921T143745Z
UID:10009398-1773651600-1773658800@graceanglican.ca
SUMMARY:Walking Group - Every Monday at 9AM outside the T&T Bakery
DESCRIPTION:The walking group meets every Monday at 8:30 outside the T&T Bakery
URL:https://graceanglican.ca/event/walking-group-every-monday-at-830am-outside-the-tt-bakery/2026-03-16/
LOCATION:T&T Bakery\, 35 Main Street Markham N\, Markham\, ON\, L3P 8C5\, Canada
CATEGORIES:Walking Group
END:VEVENT
BEGIN:VEVENT
DTSTART;TZID=America/Toronto:20260323T090000
DTEND;TZID=America/Toronto:20260323T110000
DTSTAMP:20260420T132842
CREATED:20230806T134823Z
LAST-MODIFIED:20250921T143745Z
UID:10009399-1774256400-1774263600@graceanglican.ca
SUMMARY:Walking Group - Every Monday at 9AM outside the T&T Bakery
DESCRIPTION:The walking group meets every Monday at 8:30 outside the T&T Bakery
URL:https://graceanglican.ca/event/walking-group-every-monday-at-830am-outside-the-tt-bakery/2026-03-23/
LOCATION:T&T Bakery\, 35 Main Street Markham N\, Markham\, ON\, L3P 8C5\, Canada
CATEGORIES:Walking Group
END:VEVENT
BEGIN:VEVENT
DTSTART;TZID=America/Toronto:20260330T090000
DTEND;TZID=America/Toronto:20260330T110000
DTSTAMP:20260420T132842
CREATED:20230806T134823Z
LAST-MODIFIED:20250921T143745Z
UID:10009400-1774861200-1774868400@graceanglican.ca
SUMMARY:Walking Group - Every Monday at 9AM outside the T&T Bakery
DESCRIPTION:The walking group meets every Monday at 8:30 outside the T&T Bakery
URL:https://graceanglican.ca/event/walking-group-every-monday-at-830am-outside-the-tt-bakery/2026-03-30/
LOCATION:T&T Bakery\, 35 Main Street Markham N\, Markham\, ON\, L3P 8C5\, Canada
CATEGORIES:Walking Group
END:VEVENT
END:VCALENDAR