BEGIN:VCALENDAR
VERSION:2.0
PRODID:-//Grace Church Markham - ECPv6.2.2//NONSGML v1.0//EN
CALSCALE:GREGORIAN
METHOD:PUBLISH
X-ORIGINAL-URL:https://graceanglican.ca
X-WR-CALDESC:Events for Grace Church Markham
REFRESH-INTERVAL;VALUE=DURATION:PT1H
X-Robots-Tag:noindex
X-PUBLISHED-TTL:PT1H
BEGIN:VTIMEZONE
TZID:America/Toronto
BEGIN:DAYLIGHT
TZOFFSETFROM:-0500
TZOFFSETTO:-0400
TZNAME:EDT
DTSTART:20230312T070000
END:DAYLIGHT
BEGIN:STANDARD
TZOFFSETFROM:-0400
TZOFFSETTO:-0500
TZNAME:EST
DTSTART:20231105T060000
END:STANDARD
BEGIN:DAYLIGHT
TZOFFSETFROM:-0500
TZOFFSETTO:-0400
TZNAME:EDT
DTSTART:20240310T070000
END:DAYLIGHT
BEGIN:STANDARD
TZOFFSETFROM:-0400
TZOFFSETTO:-0500
TZNAME:EST
DTSTART:20241103T060000
END:STANDARD
BEGIN:DAYLIGHT
TZOFFSETFROM:-0500
TZOFFSETTO:-0400
TZNAME:EDT
DTSTART:20250309T070000
END:DAYLIGHT
BEGIN:STANDARD
TZOFFSETFROM:-0400
TZOFFSETTO:-0500
TZNAME:EST
DTSTART:20251102T060000
END:STANDARD
BEGIN:DAYLIGHT
TZOFFSETFROM:-0500
TZOFFSETTO:-0400
TZNAME:EDT
DTSTART:20260308T070000
END:DAYLIGHT
BEGIN:STANDARD
TZOFFSETFROM:-0400
TZOFFSETTO:-0500
TZNAME:EST
DTSTART:20261101T060000
END:STANDARD
END:VTIMEZONE
BEGIN:VEVENT
DTSTART;TZID=America/Toronto:20260410T183000
DTEND;TZID=America/Toronto:20260410T210000
DTSTAMP:20260421T010223
CREATED:20260322T142837Z
LAST-MODIFIED:20260322T142837Z
UID:10010222-1775845800-1775854800@graceanglican.ca
SUMMARY:Fundraiser for Jamaica: A Pub Quiz Night
DESCRIPTION:Tickets are $20 a person.
URL:https://graceanglican.ca/event/fundraiser-for-jamaica-a-pub-quiz-night/
LOCATION:Grace Church\, 19 Parkway Avenue\, Markham\, Ontario\, L3P 2E9\, Canada
CATEGORIES:Fundraising
END:VEVENT
BEGIN:VEVENT
DTSTART;TZID=America/Toronto:20251108T090000
DTEND;TZID=America/Toronto:20251108T130000
DTSTAMP:20260421T010223
CREATED:20251012T152422Z
LAST-MODIFIED:20251031T201621Z
UID:10009545-1762592400-1762606800@graceanglican.ca
SUMMARY:Christmas Bazaar
DESCRIPTION:Our annual Grace Church Bazaar is back! Set your calendars to Saturday November 8 from 9 to 1:30PM! \n\nPurchase festive gifts for the holiday season ahead\, from antiques to jams & preserves\, and more!\nFestive luncheon with dessert and coffee for only $12\nHave you picture taken with Santa for a $5 donation!
URL:https://graceanglican.ca/event/christmas-bazaar-3/
LOCATION:Grace Church\, 19 Parkway Avenue\, Markham\, Ontario\, L3P 2E9\, Canada
CATEGORIES:Fundraising
ATTACH;FMTTYPE=image/jpeg:https://graceanglican.ca/wp-content/uploads/2025/10/Bazaar-Poster-scaled-e1761942220649.jpg
END:VEVENT
BEGIN:VEVENT
DTSTART;VALUE=DATE:20251019
DTEND;VALUE=DATE:20251020
DTSTAMP:20260421T010223
CREATED:20251012T142527Z
LAST-MODIFIED:20251012T142535Z
UID:10009543-1760832000-1760918399@graceanglican.ca
SUMMARY:Santa Sacks for Mooreland Kids Programs
DESCRIPTION:We’re collecting Santa Sacks once again for the Mooreland Kids programs.
URL:https://graceanglican.ca/event/santa-sacks-for-mooreland-kids-programs/
LOCATION:Ontario
CATEGORIES:Church Events,Fundraising
END:VEVENT
BEGIN:VEVENT
DTSTART;TZID=America/Toronto:20251012T101500
DTEND;TZID=America/Toronto:20251012T113000
DTSTAMP:20260421T010223
CREATED:20250928T143946Z
LAST-MODIFIED:20250928T143946Z
UID:10009414-1760264100-1760268600@graceanglican.ca
SUMMARY:Thanksgiving Offerings
DESCRIPTION:Please bring canned goods and other non-perishable food items for the Food Bank before or on Thanksgiving service on October 12.
URL:https://graceanglican.ca/event/thanksgiving-offerings/
LOCATION:Grace Church\, 19 Parkway Avenue\, Markham\, Ontario\, L3P 2E9\, Canada
CATEGORIES:Fundraising
END:VEVENT
BEGIN:VEVENT
DTSTART;TZID=America/Toronto:20250920T100000
DTEND;TZID=America/Toronto:20250920T130000
DTSTAMP:20260421T010223
CREATED:20250907T150228Z
LAST-MODIFIED:20250907T150228Z
UID:10008541-1758362400-1758373200@graceanglican.ca
SUMMARY:Pop-Up Fashion Sale
DESCRIPTION:Located in the Narthex!
URL:https://graceanglican.ca/event/pop-up-fashion-sale/
LOCATION:Grace Church\, 19 Parkway Avenue\, Markham\, Ontario\, L3P 2E9\, Canada
CATEGORIES:Fundraising
END:VEVENT
BEGIN:VEVENT
DTSTART;TZID=America/Toronto:20241109T090000
DTEND;TZID=America/Toronto:20241109T130000
DTSTAMP:20260421T010223
CREATED:20241013T143513Z
LAST-MODIFIED:20241025T142557Z
UID:10004331-1731142800-1731157200@graceanglican.ca
SUMMARY:Christmas Bazaar
DESCRIPTION:Our annual Grace Church Bazaar is back! Set your calendars to Saturday November 9 from 9 to 1:30PM! \n\nPurchase festive gifts for the holiday season ahead\, from antiques to jams & preserves\, and more!\nFestive luncheon with dessert and coffee for only $12\nHave you picture taken with Santa for a $5 donation!
URL:https://graceanglican.ca/event/christmas-bazaar-2/
LOCATION:Grace Church\, 19 Parkway Avenue\, Markham\, Ontario\, L3P 2E9\, Canada
CATEGORIES:Fundraising
END:VEVENT
BEGIN:VEVENT
DTSTART;TZID=America/Toronto:20240627T123000
DTEND;TZID=America/Toronto:20240627T150000
DTSTAMP:20260421T010223
CREATED:20240609T140927Z
LAST-MODIFIED:20240609T140927Z
UID:10003401-1719491400-1719500400@graceanglican.ca
SUMMARY:A Strawberry Tea
DESCRIPTION:Upper Hall \nFundraiser for Faith Works. \n$20 for tea\, sandwiches\, scones\, cream\, and strawberry jam. \nFeel free to dress up! Dust off your hats!
URL:https://graceanglican.ca/event/a-strawberry-tea/
LOCATION:Grace Church\, 19 Parkway Avenue\, Markham\, Ontario\, L3P 2E9\, Canada
CATEGORIES:Fundraising
END:VEVENT
BEGIN:VEVENT
DTSTART;TZID=America/Toronto:20240413T090000
DTEND;TZID=America/Toronto:20240413T120000
DTSTAMP:20260421T010223
CREATED:20240218T153159Z
LAST-MODIFIED:20240324T140921Z
UID:10002672-1712998800-1713009600@graceanglican.ca
SUMMARY:Rummage Sale
DESCRIPTION:Please start your Spring Clean now\, and save us all your best stuff! \n  \nDrop off for rummage sale items: \n\nThursday April 11\nFriday April 12\n9am-7pm
URL:https://graceanglican.ca/event/rummage-sale/
LOCATION:Grace Church\, 19 Parkway Avenue\, Markham\, Ontario\, L3P 2E9\, Canada
CATEGORIES:Church Events,Fundraising
END:VEVENT
BEGIN:VEVENT
DTSTART;VALUE=DATE:20231119
DTEND;VALUE=DATE:20231120
DTSTAMP:20260421T010223
CREATED:20231105T150745Z
LAST-MODIFIED:20231105T150745Z
UID:10002271-1700352000-1700438399@graceanglican.ca
SUMMARY:Santa Sacks for Moorland Kids Programs
DESCRIPTION:We’re collecting Santa Sacks once again for the Moorland Kids programs. A few children still need a gift. Sacks are to be returned by November 19.
URL:https://graceanglican.ca/event/santa-sacks-for-moorland-kids-programs/
LOCATION:Ontario
CATEGORIES:Church Events,Fundraising
END:VEVENT
BEGIN:VEVENT
DTSTART;TZID=America/Toronto:20231111T090000
DTEND;TZID=America/Toronto:20231111T130000
DTSTAMP:20260421T010223
CREATED:20231022T140635Z
LAST-MODIFIED:20231022T140635Z
UID:10002206-1699693200-1699707600@graceanglican.ca
SUMMARY:Christmas Bazaar
DESCRIPTION:
URL:https://graceanglican.ca/event/christmas-bazaar/
LOCATION:Grace Church\, 19 Parkway Avenue\, Markham\, Ontario\, L3P 2E9\, Canada
CATEGORIES:Fundraising
END:VEVENT
BEGIN:VEVENT
DTSTART;TZID=America/Toronto:20231008T090000
DTEND;TZID=America/Toronto:20231008T100000
DTSTAMP:20260421T010223
CREATED:20231001T140711Z
LAST-MODIFIED:20231001T140711Z
UID:10002194-1696755600-1696759200@graceanglican.ca
SUMMARY:Food Drive - October 6 and October 8
DESCRIPTION:Please bring canned/packaged goods or root vegetables to be placed in front of the altar for our Harvest offering.
URL:https://graceanglican.ca/event/food-drive-october-6-and-october-8/2023-10-08/
LOCATION:Grace Church\, 19 Parkway Avenue\, Markham\, Ontario\, L3P 2E9\, Canada
CATEGORIES:Fundraising
END:VEVENT
BEGIN:VEVENT
DTSTART;TZID=America/Toronto:20231006T090000
DTEND;TZID=America/Toronto:20231006T120000
DTSTAMP:20260421T010223
CREATED:20231001T140711Z
LAST-MODIFIED:20231001T140711Z
UID:10002193-1696582800-1696593600@graceanglican.ca
SUMMARY:Food Drive - October 6 and October 8
DESCRIPTION:Please bring canned/packaged goods or root vegetables to be placed in front of the altar for our Harvest offering.
URL:https://graceanglican.ca/event/food-drive-october-6-and-october-8/2023-10-06/
LOCATION:Grace Church\, 19 Parkway Avenue\, Markham\, Ontario\, L3P 2E9\, Canada
CATEGORIES:Fundraising
END:VEVENT
BEGIN:VEVENT
DTSTART;TZID=America/Toronto:20230211T183000
DTEND;TZID=America/Toronto:20230211T233000
DTSTAMP:20260421T010223
CREATED:20230114T141800Z
LAST-MODIFIED:20230114T142604Z
UID:10000020-1676140200-1676158200@graceanglican.ca
SUMMARY:Caribbean Night - Fundraising for Refugee Relocation
DESCRIPTION:Prices: \nAdults: $50:00 \nTeens 13-19: $25.00 \nChildren 6-12: $10.00 \nUnder 6: Free
URL:https://graceanglican.ca/event/caribbean-night-fundraising-for-refugee-relocation/
LOCATION:Ontario
CATEGORIES:Church Events,Fundraising
END:VEVENT
END:VCALENDAR