BEGIN:VCALENDAR
VERSION:2.0
PRODID:-//Grace Church Markham - ECPv6.2.2//NONSGML v1.0//EN
CALSCALE:GREGORIAN
METHOD:PUBLISH
X-ORIGINAL-URL:https://graceanglican.ca
X-WR-CALDESC:Events for Grace Church Markham
REFRESH-INTERVAL;VALUE=DURATION:PT1H
X-Robots-Tag:noindex
X-PUBLISHED-TTL:PT1H
BEGIN:VTIMEZONE
TZID:America/Toronto
BEGIN:DAYLIGHT
TZOFFSETFROM:-0500
TZOFFSETTO:-0400
TZNAME:EDT
DTSTART:20250309T070000
END:DAYLIGHT
BEGIN:STANDARD
TZOFFSETFROM:-0400
TZOFFSETTO:-0500
TZNAME:EST
DTSTART:20251102T060000
END:STANDARD
END:VTIMEZONE
BEGIN:VEVENT
DTSTART;TZID=America/Toronto:20250617T190000
DTEND;TZID=America/Toronto:20250617T203000
DTSTAMP:20260421T120247
CREATED:20250601T144132Z
LAST-MODIFIED:20250601T144132Z
UID:10007993-1750186800-1750192200@graceanglican.ca
SUMMARY:Hiking Church at Grace Cemetery
DESCRIPTION:Join us for an outdoor church hike at Grace Cemetery. Gates will be open – park inside. \n 
URL:https://graceanglican.ca/event/hiking-church-at-grace-cemetery/
CATEGORIES:Field Trips
END:VEVENT
END:VCALENDAR