BEGIN:VCALENDAR
VERSION:2.0
PRODID:-//Grace Church Markham - ECPv6.2.2//NONSGML v1.0//EN
CALSCALE:GREGORIAN
METHOD:PUBLISH
X-WR-CALNAME:Grace Church Markham
X-ORIGINAL-URL:https://graceanglican.ca
X-WR-CALDESC:Events for Grace Church Markham
REFRESH-INTERVAL;VALUE=DURATION:PT1H
X-Robots-Tag:noindex
X-PUBLISHED-TTL:PT1H
BEGIN:VTIMEZONE
TZID:America/Toronto
BEGIN:DAYLIGHT
TZOFFSETFROM:-0500
TZOFFSETTO:-0400
TZNAME:EDT
DTSTART:20240310T070000
END:DAYLIGHT
BEGIN:STANDARD
TZOFFSETFROM:-0400
TZOFFSETTO:-0500
TZNAME:EST
DTSTART:20241103T060000
END:STANDARD
END:VTIMEZONE
BEGIN:VEVENT
DTSTART;TZID=America/Toronto:20241005T100000
DTEND;TZID=America/Toronto:20241005T130000
DTSTAMP:20260421T221253
CREATED:20240915T153310Z
LAST-MODIFIED:20240915T153310Z
UID:10003881-1728122400-1728133200@graceanglican.ca
SUMMARY:Hiking! Eldred King Forest
DESCRIPTION:Join us for a Saturday morning hike at the Eldred King Forest. All ages welcome for a walk in the woods and prayer. \nMeet at the church to carpool at 10AM
URL:https://graceanglican.ca/event/hiking-eldred-king-forest/
LOCATION:Eldred King Forest
CATEGORIES:Field Trips
END:VEVENT
BEGIN:VEVENT
DTSTART;TZID=America/Toronto:20241022T100000
DTEND;TZID=America/Toronto:20241022T120000
DTSTAMP:20260421T221253
CREATED:20241013T143225Z
LAST-MODIFIED:20241013T143225Z
UID:10004328-1729591200-1729598400@graceanglican.ca
SUMMARY:Interfaith Visit - Zoroastrian Society of Ontario
DESCRIPTION:We will be visiting the Zoroastrian Society of Ontario at 3590 Bayview Ave. Sign up on the noticeboard.
URL:https://graceanglican.ca/event/interfaith-visit-zoroastrian-society-of-ontario/
LOCATION:Zoroastrian Society of Ontario\, 3590 Bayview Avenue\, Toronto\, Ontario\, Canada
CATEGORIES:Field Trips
END:VEVENT
END:VCALENDAR