BEGIN:VCALENDAR
VERSION:2.0
PRODID:-//Grace Church Markham - ECPv6.2.2//NONSGML v1.0//EN
CALSCALE:GREGORIAN
METHOD:PUBLISH
X-WR-CALNAME:Grace Church Markham
X-ORIGINAL-URL:https://graceanglican.ca
X-WR-CALDESC:Events for Grace Church Markham
REFRESH-INTERVAL;VALUE=DURATION:PT1H
X-Robots-Tag:noindex
X-PUBLISHED-TTL:PT1H
BEGIN:VTIMEZONE
TZID:America/Toronto
BEGIN:DAYLIGHT
TZOFFSETFROM:-0500
TZOFFSETTO:-0400
TZNAME:EDT
DTSTART:20240310T070000
END:DAYLIGHT
BEGIN:STANDARD
TZOFFSETFROM:-0400
TZOFFSETTO:-0500
TZNAME:EST
DTSTART:20241103T060000
END:STANDARD
END:VTIMEZONE
BEGIN:VEVENT
DTSTART;TZID=America/Toronto:20240919T110000
DTEND;TZID=America/Toronto:20240919T130000
DTSTAMP:20260422T011549
CREATED:20240915T153005Z
LAST-MODIFIED:20240915T153005Z
UID:10003879-1726743600-1726750800@graceanglican.ca
SUMMARY:Interfaith Visit - Sikh Gurdwara
DESCRIPTION:We’ll be visiting the Sikh Gurdwara for an afternoon visit to learn more about the Sikh faith. \nAddress: 905 Middlefield Road. Please sign up on the board
URL:https://graceanglican.ca/event/interfaith-visit-sikh-gurdwara/
LOCATION:Gursikh Sabha Canada\, 905 Middlefield Road\, Markham\, ON\, Canada
CATEGORIES:Field Trips
END:VEVENT
END:VCALENDAR