BEGIN:VCALENDAR
VERSION:2.0
PRODID:-//Grace Church Markham - ECPv6.2.2//NONSGML v1.0//EN
CALSCALE:GREGORIAN
METHOD:PUBLISH
X-ORIGINAL-URL:https://graceanglican.ca
X-WR-CALDESC:Events for Grace Church Markham
REFRESH-INTERVAL;VALUE=DURATION:PT1H
X-Robots-Tag:noindex
X-PUBLISHED-TTL:PT1H
BEGIN:VTIMEZONE
TZID:America/Toronto
BEGIN:DAYLIGHT
TZOFFSETFROM:-0500
TZOFFSETTO:-0400
TZNAME:EDT
DTSTART:20230312T070000
END:DAYLIGHT
BEGIN:STANDARD
TZOFFSETFROM:-0400
TZOFFSETTO:-0500
TZNAME:EST
DTSTART:20231105T060000
END:STANDARD
BEGIN:DAYLIGHT
TZOFFSETFROM:-0500
TZOFFSETTO:-0400
TZNAME:EDT
DTSTART:20240310T070000
END:DAYLIGHT
BEGIN:STANDARD
TZOFFSETFROM:-0400
TZOFFSETTO:-0500
TZNAME:EST
DTSTART:20241103T060000
END:STANDARD
BEGIN:DAYLIGHT
TZOFFSETFROM:-0500
TZOFFSETTO:-0400
TZNAME:EDT
DTSTART:20250309T070000
END:DAYLIGHT
BEGIN:STANDARD
TZOFFSETFROM:-0400
TZOFFSETTO:-0500
TZNAME:EST
DTSTART:20251102T060000
END:STANDARD
END:VTIMEZONE
BEGIN:VEVENT
DTSTART;VALUE=DATE:20251019
DTEND;VALUE=DATE:20251020
DTSTAMP:20260419T094242
CREATED:20251012T142527Z
LAST-MODIFIED:20251012T142535Z
UID:10009543-1760832000-1760918399@graceanglican.ca
SUMMARY:Santa Sacks for Mooreland Kids Programs
DESCRIPTION:We’re collecting Santa Sacks once again for the Mooreland Kids programs.
URL:https://graceanglican.ca/event/santa-sacks-for-mooreland-kids-programs/
CATEGORIES:Church Events,Fundraising
END:VEVENT
BEGIN:VEVENT
DTSTART;TZID=America/Toronto:20241204T123000
DTEND;TZID=America/Toronto:20241204T140000
DTSTAMP:20260419T094242
CREATED:20241110T153901Z
LAST-MODIFIED:20241110T153901Z
UID:10006456-1733315400-1733320800@graceanglican.ca
SUMMARY:The Chosen "Christmas Special"
DESCRIPTION:A Christmas movie with music featuring famed Italian opera singer Andrea Bocelli. A festival lunch will be provided. All are welcome!
URL:https://graceanglican.ca/event/the-chosen-christmas-special/
LOCATION:Grace Church\, 19 Parkway Avenue\, Markham\, Ontario\, L3P 2E9\, Canada
CATEGORIES:Church Events,Meals
END:VEVENT
BEGIN:VEVENT
DTSTART;TZID=America/Toronto:20240908T113000
DTEND;TZID=America/Toronto:20240908T143000
DTSTAMP:20260419T094242
CREATED:20240811T133847Z
LAST-MODIFIED:20240811T133847Z
UID:10003612-1725795000-1725805800@graceanglican.ca
SUMMARY:Back to Church BBQ
DESCRIPTION:On September 8\, we will return to 2 services! Children are invited to bring their backpacks to the 10:15am service for a blessing. All are invited to the BBQ after church!
URL:https://graceanglican.ca/event/back-to-church-bbq/
LOCATION:Grace Church\, 19 Parkway Avenue\, Markham\, Ontario\, L3P 2E9\, Canada
CATEGORIES:Church Events,Meals
END:VEVENT
BEGIN:VEVENT
DTSTART;TZID=America/Toronto:20240707T120000
DTEND;TZID=America/Toronto:20240707T150000
DTSTAMP:20260419T094242
CREATED:20240428T140355Z
LAST-MODIFIED:20240623T143350Z
UID:10003135-1720353600-1720364400@graceanglican.ca
SUMMARY:Parish Picnic
DESCRIPTION:SAVE THE DATE!
URL:https://graceanglican.ca/event/parish-picnic/
LOCATION:Grace Church\, 19 Parkway Avenue\, Markham\, Ontario\, L3P 2E9\, Canada
CATEGORIES:Church Events,Meals
END:VEVENT
BEGIN:VEVENT
DTSTART;TZID=America/Toronto:20240514T130000
DTEND;TZID=America/Toronto:20240514T150000
DTSTAMP:20260419T094242
CREATED:20240421T143237Z
LAST-MODIFIED:20240421T143237Z
UID:10003132-1715691600-1715698800@graceanglican.ca
SUMMARY:Tea with the Bishop
DESCRIPTION:Estate planning & legacy. Light lunch in the Upper Hall.
URL:https://graceanglican.ca/event/tea-with-the-bishop/
CATEGORIES:Church Events,Meals
END:VEVENT
BEGIN:VEVENT
DTSTART;TZID=America/Toronto:20240418T190000
DTEND;TZID=America/Toronto:20240418T200000
DTSTAMP:20260419T094242
CREATED:20240218T153414Z
LAST-MODIFIED:20240218T153414Z
UID:10002674-1713466800-1713470400@graceanglican.ca
SUMMARY:Art of Resistance Session - The Caribbean and West Indian Experience
DESCRIPTION:
URL:https://graceanglican.ca/event/art-of-resistance-session-the-caribbean-and-west-indian-experience/
LOCATION:Grace Church\, 19 Parkway Avenue\, Markham\, Ontario\, L3P 2E9\, Canada
CATEGORIES:Church Events
END:VEVENT
BEGIN:VEVENT
DTSTART;TZID=America/Toronto:20240413T090000
DTEND;TZID=America/Toronto:20240413T120000
DTSTAMP:20260419T094242
CREATED:20240218T153159Z
LAST-MODIFIED:20240324T140921Z
UID:10002672-1712998800-1713009600@graceanglican.ca
SUMMARY:Rummage Sale
DESCRIPTION:Please start your Spring Clean now\, and save us all your best stuff! \n  \nDrop off for rummage sale items: \n\nThursday April 11\nFriday April 12\n9am-7pm
URL:https://graceanglican.ca/event/rummage-sale/
LOCATION:Grace Church\, 19 Parkway Avenue\, Markham\, Ontario\, L3P 2E9\, Canada
CATEGORIES:Church Events,Fundraising
END:VEVENT
BEGIN:VEVENT
DTSTART;TZID=America/Toronto:20240317T163000
DTEND;TZID=America/Toronto:20240317T173000
DTSTAMP:20260419T094242
CREATED:20240303T150152Z
LAST-MODIFIED:20240303T150152Z
UID:10002678-1710693000-1710696600@graceanglican.ca
SUMMARY:Dean Robert Willis (Canterbury) at Cathedral for Evensong
DESCRIPTION:Dean Robert Willis (Canterbury) is preaching at the Cathedral of Evensong on March 17 at 4:30pm. \nSign up sheet is on the board.
URL:https://graceanglican.ca/event/dean-robert-willis-canterbury-at-cathedral-for-evensong/
LOCATION:St. James Cathedral\, 106 King Street East\, Toronto\, ON\, M5C 2E9\, Canada
CATEGORIES:Church Events
END:VEVENT
BEGIN:VEVENT
DTSTART;TZID=America/Toronto:20240312T190000
DTEND;TZID=America/Toronto:20240312T200000
DTSTAMP:20260419T094242
CREATED:20240218T153337Z
LAST-MODIFIED:20240218T153337Z
UID:10002673-1710270000-1710273600@graceanglican.ca
SUMMARY:Art of Resistance Session - The Underground Railroad
DESCRIPTION:
URL:https://graceanglican.ca/event/art-of-resistance-session-the-underground-railroad/
LOCATION:Grace Church\, 19 Parkway Avenue\, Markham\, Ontario\, L3P 2E9\, Canada
CATEGORIES:Church Events
END:VEVENT
BEGIN:VEVENT
DTSTART;TZID=America/Toronto:20240305T190000
DTEND;TZID=America/Toronto:20240305T220000
DTSTAMP:20260419T094242
CREATED:20240204T152953Z
LAST-MODIFIED:20240204T152953Z
UID:10002539-1709665200-1709676000@graceanglican.ca
SUMMARY:Paint Night - ACW
DESCRIPTION:Contact Lianne McOuat or Office \nCost $50
URL:https://graceanglican.ca/event/paint-night-acw/
LOCATION:Grace Church\, 19 Parkway Avenue\, Markham\, Ontario\, L3P 2E9\, Canada
CATEGORIES:Church Events
END:VEVENT
BEGIN:VEVENT
DTSTART;TZID=America/Toronto:20240211T080000
DTEND;TZID=America/Toronto:20240211T170000
DTSTAMP:20260419T094242
CREATED:20240211T151214Z
LAST-MODIFIED:20240211T151214Z
UID:10002671-1707638400-1707670800@graceanglican.ca
SUMMARY:Joseph and the Amazing Technicolor Dreamcoat at the Flato Markham Theatre
DESCRIPTION:At the Flato Markham Theatre on February 23 at 10:30am. \n  \n$20 through Phyllis Tyrie. Final day notice is Feb 11
URL:https://graceanglican.ca/event/joseph-and-the-amazing-technicolor-dreamcoat-at-the-flato-markham-theatre/
LOCATION:Flato Markham Theatre\, 171 Town Centre Blvd\, Markham\, ON\, L3R 8G5\, Canada
CATEGORIES:Church Events
END:VEVENT
BEGIN:VEVENT
DTSTART;TZID=America/Toronto:20231231T093000
DTEND;TZID=America/Toronto:20231231T103000
DTSTAMP:20260419T094242
CREATED:20231126T154744Z
LAST-MODIFIED:20231126T154744Z
UID:10002348-1704015000-1704018600@graceanglican.ca
SUMMARY:First Sunday after Christmas
DESCRIPTION:
URL:https://graceanglican.ca/event/first-sunday-after-christmas/
LOCATION:Grace Church\, 19 Parkway Avenue\, Markham\, Ontario\, L3P 2E9\, Canada
CATEGORIES:Church Events
END:VEVENT
BEGIN:VEVENT
DTSTART;TZID=America/Toronto:20231225T100000
DTEND;TZID=America/Toronto:20231225T113000
DTSTAMP:20260419T094242
CREATED:20231126T154708Z
LAST-MODIFIED:20231126T154708Z
UID:10002347-1703498400-1703503800@graceanglican.ca
SUMMARY:Christmas Day Service
DESCRIPTION:
URL:https://graceanglican.ca/event/christmas-day-service/
LOCATION:Grace Church\, 19 Parkway Avenue\, Markham\, Ontario\, L3P 2E9\, Canada
CATEGORIES:Church Events
END:VEVENT
BEGIN:VEVENT
DTSTART;TZID=America/Toronto:20231224T190000
DTEND;TZID=America/Toronto:20231224T200000
DTSTAMP:20260419T094242
CREATED:20231126T154246Z
LAST-MODIFIED:20231126T154246Z
UID:10002346-1703444400-1703448000@graceanglican.ca
SUMMARY:Christmas Eve Service - 7:00PM Candlelight Carols and Eucharist
DESCRIPTION:
URL:https://graceanglican.ca/event/christmas-eve-service-700pm-candlelight-carols-and-eucharist/
LOCATION:Grace Church\, 19 Parkway Avenue\, Markham\, Ontario\, L3P 2E9\, Canada
CATEGORIES:Church Events
END:VEVENT
BEGIN:VEVENT
DTSTART;TZID=America/Toronto:20231224T160000
DTEND;TZID=America/Toronto:20231224T170000
DTSTAMP:20260419T094242
CREATED:20231126T154221Z
LAST-MODIFIED:20231126T154221Z
UID:10002345-1703433600-1703437200@graceanglican.ca
SUMMARY:Christmas Eve Service - 4:00PM Family Service and Pagaent
DESCRIPTION:
URL:https://graceanglican.ca/event/christmas-eve-service-400pm-family-service-and-pagaent/
LOCATION:Grace Church\, 19 Parkway Avenue\, Markham\, Ontario\, L3P 2E9\, Canada
CATEGORIES:Church Events
END:VEVENT
BEGIN:VEVENT
DTSTART;TZID=America/Toronto:20231224T093000
DTEND;TZID=America/Toronto:20231224T103000
DTSTAMP:20260419T094242
CREATED:20231126T154153Z
LAST-MODIFIED:20231203T145841Z
UID:10002344-1703410200-1703413800@graceanglican.ca
SUMMARY:Christmas Eve Service - 9:30 Eucharist
DESCRIPTION:
URL:https://graceanglican.ca/event/christmas-eve-service-1015-eucharist/
LOCATION:Grace Church\, 19 Parkway Avenue\, Markham\, Ontario\, L3P 2E9\, Canada
CATEGORIES:Church Events
END:VEVENT
BEGIN:VEVENT
DTSTART;TZID=America/Toronto:20231217T101500
DTEND;TZID=America/Toronto:20231217T113000
DTSTAMP:20260419T094242
CREATED:20231126T154033Z
LAST-MODIFIED:20231126T154033Z
UID:10002343-1702808100-1702812600@graceanglican.ca
SUMMARY:Lessons and Carols
DESCRIPTION:
URL:https://graceanglican.ca/event/lessons-and-carols/
LOCATION:Grace Church\, 19 Parkway Avenue\, Markham\, Ontario\, L3P 2E9\, Canada
CATEGORIES:Church Events
END:VEVENT
BEGIN:VEVENT
DTSTART;TZID=America/Toronto:20231205T130000
DTEND;TZID=America/Toronto:20231205T160000
DTSTAMP:20260419T094242
CREATED:20231126T153742Z
LAST-MODIFIED:20231126T153742Z
UID:10002280-1701781200-1701792000@graceanglican.ca
SUMMARY:2023 ACW General Meeting
DESCRIPTION:Special Guest: Rev Nicola \nTopic: The Cornish Celtic Way Pilgrimage \nGeneral meeting to follow to pass disbursements and nominations for 2024. \nBring dessert to share! Everyone is welcome to attend.
URL:https://graceanglican.ca/event/2023-acw-general-meeting/
LOCATION:Grace Church\, 19 Parkway Avenue\, Markham\, Ontario\, L3P 2E9\, Canada
CATEGORIES:Church Events
END:VEVENT
BEGIN:VEVENT
DTSTART;TZID=America/Toronto:20231203T113000
DTEND;TZID=America/Toronto:20231203T130000
DTSTAMP:20260419T094242
CREATED:20231126T153553Z
LAST-MODIFIED:20231126T153553Z
UID:10002279-1701603000-1701608400@graceanglican.ca
SUMMARY:All-age Christmas Craft Session
DESCRIPTION:Now with feative treats and Christmas Music!
URL:https://graceanglican.ca/event/all-age-christmas-craft-session/
LOCATION:Grace Church\, 19 Parkway Avenue\, Markham\, Ontario\, L3P 2E9\, Canada
CATEGORIES:Church Events
END:VEVENT
BEGIN:VEVENT
DTSTART;TZID=America/Toronto:20231126T113000
DTEND;TZID=America/Toronto:20231126T130000
DTSTAMP:20260419T094242
CREATED:20231105T151141Z
LAST-MODIFIED:20231105T151141Z
UID:10002274-1700998200-1701003600@graceanglican.ca
SUMMARY:Advisory Board Meeting
DESCRIPTION:
URL:https://graceanglican.ca/event/advisory-board-meeting-3/
LOCATION:Grace Church\, 19 Parkway Avenue\, Markham\, Ontario\, L3P 2E9\, Canada
CATEGORIES:Church Events
END:VEVENT
BEGIN:VEVENT
DTSTART;TZID=America/Toronto:20231124T183000
DTEND;TZID=America/Toronto:20231124T203000
DTSTAMP:20260419T094242
CREATED:20231029T141044Z
LAST-MODIFIED:20231029T141044Z
UID:10002210-1700850600-1700857800@graceanglican.ca
SUMMARY:Community Chili Cook-Off!!
DESCRIPTION:FREE! All Welcome \nEntrants must bring a crock pot of any chili
URL:https://graceanglican.ca/event/community-chili-cook-off/
LOCATION:Grace Church\, 19 Parkway Avenue\, Markham\, Ontario\, L3P 2E9\, Canada
CATEGORIES:Church Events,Meals
END:VEVENT
BEGIN:VEVENT
DTSTART;VALUE=DATE:20231119
DTEND;VALUE=DATE:20231120
DTSTAMP:20260419T094242
CREATED:20231105T150745Z
LAST-MODIFIED:20231105T150745Z
UID:10002271-1700352000-1700438399@graceanglican.ca
SUMMARY:Santa Sacks for Moorland Kids Programs
DESCRIPTION:We’re collecting Santa Sacks once again for the Moorland Kids programs. A few children still need a gift. Sacks are to be returned by November 19.
URL:https://graceanglican.ca/event/santa-sacks-for-moorland-kids-programs/
CATEGORIES:Church Events,Fundraising
END:VEVENT
BEGIN:VEVENT
DTSTART;TZID=America/Toronto:20230910T101500
DTEND;TZID=America/Toronto:20230910T130000
DTSTAMP:20260419T094242
CREATED:20230806T134115Z
LAST-MODIFIED:20230806T135724Z
UID:10000029-1694340900-1694350800@graceanglican.ca
SUMMARY:Welcome Back BBQ
DESCRIPTION:Following the 10:15 service we will have our Welcome Back BBQ! Hot dogs\, burgers\, ice cream\, and lunchtime treats. Invite your friends\, family and neighbours! Volunteers needed for setup and BBQing. Please sign up sheet on notice board.
URL:https://graceanglican.ca/event/welcome-back-bbq/
LOCATION:Grace Church\, 19 Parkway Avenue\, Markham\, Ontario\, L3P 2E9\, Canada
CATEGORIES:Church Events,Meals
END:VEVENT
BEGIN:VEVENT
DTSTART;TZID=America/Toronto:20230212T180000
DTEND;TZID=America/Toronto:20230212T180000
DTSTAMP:20260419T094242
CREATED:20230114T142754Z
LAST-MODIFIED:20230114T142754Z
UID:10000025-1676224800-1676224800@graceanglican.ca
SUMMARY:Pancake Supper
DESCRIPTION:Details to follow!
URL:https://graceanglican.ca/event/pancake-supper/
LOCATION:Grace Church\, 19 Parkway Avenue\, Markham\, Ontario\, L3P 2E9\, Canada
CATEGORIES:Church Events,Meals
END:VEVENT
BEGIN:VEVENT
DTSTART;TZID=America/Toronto:20230212T101500
DTEND;TZID=America/Toronto:20230212T110000
DTSTAMP:20260419T094242
CREATED:20230114T142837Z
LAST-MODIFIED:20230114T142837Z
UID:10000026-1676196900-1676199600@graceanglican.ca
SUMMARY:Black Heritage Sunday - Guest Preacher Rev. Alydia Smith
DESCRIPTION:Black Heritage Sunday – Guest Preacher Rev. Alydia Smith
URL:https://graceanglican.ca/event/black-heritage-sunday-guest-preacher-rev-alydia-smith/
CATEGORIES:Church Events
END:VEVENT
BEGIN:VEVENT
DTSTART;TZID=America/Toronto:20230211T183000
DTEND;TZID=America/Toronto:20230211T233000
DTSTAMP:20260419T094242
CREATED:20230114T141800Z
LAST-MODIFIED:20230114T142604Z
UID:10000020-1676140200-1676158200@graceanglican.ca
SUMMARY:Caribbean Night - Fundraising for Refugee Relocation
DESCRIPTION:Prices: \nAdults: $50:00 \nTeens 13-19: $25.00 \nChildren 6-12: $10.00 \nUnder 6: Free
URL:https://graceanglican.ca/event/caribbean-night-fundraising-for-refugee-relocation/
CATEGORIES:Church Events,Fundraising
END:VEVENT
END:VCALENDAR