BEGIN:VCALENDAR
VERSION:2.0
PRODID:-//Grace Church Markham - ECPv6.2.2//NONSGML v1.0//EN
CALSCALE:GREGORIAN
METHOD:PUBLISH
X-WR-CALNAME:Grace Church Markham
X-ORIGINAL-URL:https://graceanglican.ca
X-WR-CALDESC:Events for Grace Church Markham
REFRESH-INTERVAL;VALUE=DURATION:PT1H
X-Robots-Tag:noindex
X-PUBLISHED-TTL:PT1H
BEGIN:VTIMEZONE
TZID:America/Toronto
BEGIN:DAYLIGHT
TZOFFSETFROM:-0500
TZOFFSETTO:-0400
TZNAME:EDT
DTSTART:20240310T070000
END:DAYLIGHT
BEGIN:STANDARD
TZOFFSETFROM:-0400
TZOFFSETTO:-0500
TZNAME:EST
DTSTART:20241103T060000
END:STANDARD
END:VTIMEZONE
BEGIN:VEVENT
DTSTART;TZID=America/Toronto:20241203T120000
DTEND;TZID=America/Toronto:20241203T150000
DTSTAMP:20260419T123155
CREATED:20241124T151053Z
LAST-MODIFIED:20241124T151053Z
UID:10006491-1733227200-1733238000@graceanglican.ca
SUMMARY:ACW Potluck Lunch
DESCRIPTION:
URL:https://graceanglican.ca/event/acw-potluck-lunch/
LOCATION:Grace Church\, 19 Parkway Avenue\, Markham\, Ontario\, L3P 2E9\, Canada
CATEGORIES:ACW,Meals
END:VEVENT
BEGIN:VEVENT
DTSTART;TZID=America/Toronto:20240604T180000
DTEND;TZID=America/Toronto:20240604T220000
DTSTAMP:20260419T123155
CREATED:20240526T143640Z
LAST-MODIFIED:20240526T143640Z
UID:10003205-1717524000-1717538400@graceanglican.ca
SUMMARY:ACW Annual Pot Luck Dinner
DESCRIPTION:Upper hall. Everyone is welcome!
URL:https://graceanglican.ca/event/acw-annual-pot-luck-dinner/
LOCATION:Grace Church\, 19 Parkway Avenue\, Markham\, Ontario\, L3P 2E9\, Canada
CATEGORIES:ACW
END:VEVENT
BEGIN:VEVENT
DTSTART;TZID=America/Toronto:20240507T190000
DTEND;TZID=America/Toronto:20240507T210000
DTSTAMP:20260419T123155
CREATED:20240428T140039Z
LAST-MODIFIED:20240505T141106Z
UID:10003134-1715108400-1715115600@graceanglican.ca
SUMMARY:ACW Meeting - Guest Speaker York Paramedic Service
DESCRIPTION:Upper Hall – Guest Speaker: Melanie Silva\, York Paramedic Service \nTopic: Preparing for a Medical Emergency
URL:https://graceanglican.ca/event/acw-executive-meeting/
LOCATION:Grace Church\, 19 Parkway Avenue\, Markham\, Ontario\, L3P 2E9\, Canada
CATEGORIES:ACW
END:VEVENT
END:VCALENDAR