BEGIN:VCALENDAR
VERSION:2.0
PRODID:-//Grace Church Markham - ECPv6.2.2//NONSGML v1.0//EN
CALSCALE:GREGORIAN
METHOD:PUBLISH
X-WR-CALNAME:Grace Church Markham
X-ORIGINAL-URL:https://graceanglican.ca
X-WR-CALDESC:Events for Grace Church Markham
REFRESH-INTERVAL;VALUE=DURATION:PT1H
X-Robots-Tag:noindex
X-PUBLISHED-TTL:PT1H
BEGIN:VTIMEZONE
TZID:America/Toronto
BEGIN:DAYLIGHT
TZOFFSETFROM:-0500
TZOFFSETTO:-0400
TZNAME:EDT
DTSTART:20250309T070000
END:DAYLIGHT
BEGIN:STANDARD
TZOFFSETFROM:-0400
TZOFFSETTO:-0500
TZNAME:EST
DTSTART:20251102T060000
END:STANDARD
END:VTIMEZONE
BEGIN:VEVENT
DTSTART;TZID=America/Toronto:20251214T091500
DTEND;TZID=America/Toronto:20251214T100000
DTSTAMP:20260419T174749
CREATED:20251123T154636Z
LAST-MODIFIED:20251123T154636Z
UID:10009898-1765703700-1765706400@graceanglican.ca
SUMMARY:Advisory Board
DESCRIPTION:
URL:https://graceanglican.ca/event/advisory-board-5/
LOCATION:Grace Church\, 19 Parkway Avenue\, Markham\, Ontario\, L3P 2E9\, Canada
CATEGORIES:Advisory Board
END:VEVENT
BEGIN:VEVENT
DTSTART;TZID=America/Toronto:20251214T101500
DTEND;TZID=America/Toronto:20251214T111500
DTSTAMP:20260419T174749
CREATED:20251123T153654Z
LAST-MODIFIED:20251123T153715Z
UID:10009849-1765707300-1765710900@graceanglican.ca
SUMMARY:Sunday Service - Lessons and Carols - 10:15 AM
DESCRIPTION:Grace Anglican Lessons and Carols service at 10:15 AM. This service is livestreamed\, with music led by our Music Director J.C. Coolen
URL:https://graceanglican.ca/event/sunday-service-1015-am-2/
LOCATION:Grace Church\, 19 Parkway Avenue\, Markham\, Ontario\, L3P 2E9\, Canada
END:VEVENT
END:VCALENDAR