BEGIN:VCALENDAR
VERSION:2.0
PRODID:-//Grace Church Markham - ECPv6.2.2//NONSGML v1.0//EN
CALSCALE:GREGORIAN
METHOD:PUBLISH
X-WR-CALNAME:Grace Church Markham
X-ORIGINAL-URL:https://graceanglican.ca
X-WR-CALDESC:Events for Grace Church Markham
REFRESH-INTERVAL;VALUE=DURATION:PT1H
X-Robots-Tag:noindex
X-PUBLISHED-TTL:PT1H
BEGIN:VTIMEZONE
TZID:America/Toronto
BEGIN:DAYLIGHT
TZOFFSETFROM:-0500
TZOFFSETTO:-0400
TZNAME:EDT
DTSTART:20240310T070000
END:DAYLIGHT
BEGIN:STANDARD
TZOFFSETFROM:-0400
TZOFFSETTO:-0500
TZNAME:EST
DTSTART:20241103T060000
END:STANDARD
END:VTIMEZONE
BEGIN:VEVENT
DTSTART;TZID=America/Toronto:20240213T180000
DTEND;TZID=America/Toronto:20240213T193000
DTSTAMP:20260419T093941
CREATED:20240107T150602Z
LAST-MODIFIED:20240128T154323Z
UID:10002461-1707847200-1707852600@graceanglican.ca
SUMMARY:Mardi Gras Pancake Supper
DESCRIPTION:Bring your family and neighbours! \n  \nChildren 5 and under: free\nChildren 6-12 and seniors: $7\nAdults and Teens: $10\nFamily ticket (up to 3 kids): $30
URL:https://graceanglican.ca/event/mardi-gras-pancake-supper/
LOCATION:Grace Church\, 19 Parkway Avenue\, Markham\, Ontario\, L3P 2E9\, Canada
END:VEVENT
END:VCALENDAR